BEGIN:VCALENDAR
VERSION:2.0
PRODID:-//wp-events-plugin.com//7.2.3.1//EN
BEGIN:VEVENT
UID:0-584@burg-wersau.de
DTSTART:20260321T230000Z
DTEND:20260321T230000Z
DTSTAMP:20260311T171837Z
URL:https://burg-wersau.de/events/vortrag-zum-stand-der-forschung-auf-burg
 -wersau/
SUMMARY:Vortrag zum Stand der Forschung auf Burg Wersau
DESCRIPTION:Am 22.3. um 11:30 Uhr und um 13:30 Uhr wird Frau Tina Schöbel 
 einen Vortrag zum Stand der Forschung auf Burg Wersau halten.\nFrau Schöb
 el ist die zuständige Archäologin für die Ausgrabungen auf Burg Wersau.
  Sie überwacht\, koordiniert und wertet die Forschungen aus.\n\n&nbsp\;\n
 \nDie Veranstaltung findet statt im Rahmen des Ostermarktes der Freunde Re
 ilinger Geschichte e.V.\n\n&nbsp\;
ATTACH;FMTTYPE=image/jpeg:https://burg-wersau.de/wp-content/uploads/2023/0
 5/grafik.png
LOCATION:Fritz-Mannherz-Hallen\, Wilhelmstraße 42/3\, Reilingen\, Deutschl
 and
X-APPLE-STRUCTURED-LOCATION;VALUE=URI;X-ADDRESS=Wilhelmstraße 42/3\, Reili
 ngen\, Deutschland;X-APPLE-RADIUS=100;X-TITLE=Fritz-Mannherz-Hallen:geo:0,
 0
END:VEVENT
END:VCALENDAR