BEGIN:VCALENDAR
VERSION:2.0
PRODID:-//wp-events-plugin.com//7.2.3.1//EN
BEGIN:VEVENT
UID:0-601@burg-wersau.de
DTSTART:20260624T183000Z
DTEND:20260624T203000Z
DTSTAMP:20260307T172858Z
URL:https://burg-wersau.de/events/arbeitskreis-treffen-2026-2025-03-26-202
 5-04-30-2025-05-28-2025-06-25-2025-07-30-2025-08-27-2025-09-24-2025-10-29-
 2025-11-26-2025-12-31-2026-01-28-2026-02-25-2026-03-25-2026-04-29-2026-0-2
 7-2026-06-24/
SUMMARY:Arbeitskreis Treffen 2026
DESCRIPTION:Ort wird kurzfristig bekanntgegeben. Nähere Informationen kurz
  vor der Veranstaltung
ATTACH;FMTTYPE=image/jpeg:https://burg-wersau.de/wp-content/uploads/2020/0
 9/DSC_2473-scaled.jpg
END:VEVENT
END:VCALENDAR